BEGIN:VCALENDAR
VERSION:2.0
PRODID:-//Automobilsällskapet Nyköping - ECPv4.7.3//NONSGML v1.0//EN
CALSCALE:GREGORIAN
METHOD:PUBLISH
X-WR-CALNAME:Automobilsällskapet Nyköping
X-ORIGINAL-URL:https://automobilsallskapet.se
X-WR-CALDESC:Händelser för Automobilsällskapet Nyköping
BEGIN:VEVENT
DTSTART;TZID=Europe/Stockholm:20250427T130000
DTEND;TZID=Europe/Stockholm:20250427T160000
DTSTAMP:20260419T232917
CREATED:20250115T152006Z
LAST-MODIFIED:20250408T094521Z
UID:13855-1745758800-1745769600@automobilsallskapet.se
SUMMARY:Sista Söndagsöppet 13-16
DESCRIPTION:Värdar: Sonja o Urban Nyblom \nSäsongsavslutningen firar vi med kalasfika och sång av ConKÖRdeCharme kl 15.00 \nVisning av ANA-garagen kl 14.00 om intresse finns \n
URL:https://automobilsallskapet.se/event/sista-sondagsoppet-13-16
END:VEVENT
END:VCALENDAR