BEGIN:VCALENDAR
VERSION:2.0
PRODID:-//Automobilsällskapet Nyköping - ECPv4.7.3//NONSGML v1.0//EN
CALSCALE:GREGORIAN
METHOD:PUBLISH
X-WR-CALNAME:Automobilsällskapet Nyköping
X-ORIGINAL-URL:https://automobilsallskapet.se
X-WR-CALDESC:Händelser för Automobilsällskapet Nyköping
BEGIN:VEVENT
DTSTART;TZID=Europe/Stockholm:20250413T130000
DTEND;TZID=Europe/Stockholm:20250413T160000
DTSTAMP:20260419T233028
CREATED:20250115T151332Z
LAST-MODIFIED:20250115T151332Z
UID:13849-1744549200-1744560000@automobilsallskapet.se
SUMMARY:Söndagsöppet 13-16
DESCRIPTION:Värdar:  Bengt o Helena Nilsson \nVisning av ANA-garagen kl 14.00 om intresse finns \n
URL:https://automobilsallskapet.se/event/sondagsoppet-13-16-13
END:VEVENT
END:VCALENDAR