BEGIN:VCALENDAR
VERSION:2.0
PRODID:-//Automobilsällskapet Nyköping - ECPv4.7.3//NONSGML v1.0//EN
CALSCALE:GREGORIAN
METHOD:PUBLISH
X-WR-CALNAME:Automobilsällskapet Nyköping
X-ORIGINAL-URL:https://automobilsallskapet.se
X-WR-CALDESC:Händelser för Automobilsällskapet Nyköping
BEGIN:VEVENT
DTSTART;TZID=Europe/Stockholm:20250406T130000
DTEND;TZID=Europe/Stockholm:20250406T160000
DTSTAMP:20260420T134610
CREATED:20250115T151134Z
LAST-MODIFIED:20250115T151134Z
UID:13847-1743944400-1743955200@automobilsallskapet.se
SUMMARY:Söndagsöppet 13-16
DESCRIPTION:Värdar:  Gunnar o Gunn-Britt Eriksson \nVisning av ANA-garagen kl 14.00 vid inttresse \n  \n
URL:https://automobilsallskapet.se/event/sondagsoppet-13-16-12
END:VEVENT
END:VCALENDAR