BEGIN:VCALENDAR
VERSION:2.0
PRODID:-//Automobilsällskapet Nyköping - ECPv4.7.3//NONSGML v1.0//EN
CALSCALE:GREGORIAN
METHOD:PUBLISH
X-WR-CALNAME:Automobilsällskapet Nyköping
X-ORIGINAL-URL:https://automobilsallskapet.se
X-WR-CALDESC:Händelser för Automobilsällskapet Nyköping
BEGIN:VEVENT
DTSTART;TZID=Europe/Stockholm:20220601T173000
DTEND;TZID=Europe/Stockholm:20220601T210000
DTSTAMP:20260425T114251
CREATED:20220222T104858Z
LAST-MODIFIED:20220222T104858Z
UID:11808-1654104600-1654117200@automobilsallskapet.se
SUMMARY:Hamnträff med Tema: Tävlingsbilar
DESCRIPTION:Den här kvällen platsar tävlingsbilar av alla typer: rally\, banbilar\, dragsters m fl \nMen givetvis är alla typer av fordon välkomna som är 30 år eller äldre och i fint skick \n
URL:https://automobilsallskapet.se/event/hamntraff-med-tema-tavlingsbilar
END:VEVENT
END:VCALENDAR