BEGIN:VCALENDAR
VERSION:2.0
PRODID:-//Automobilsällskapet Nyköping - ECPv4.7.3//NONSGML v1.0//EN
CALSCALE:GREGORIAN
METHOD:PUBLISH
X-WR-CALNAME:Automobilsällskapet Nyköping
X-ORIGINAL-URL:https://automobilsallskapet.se
X-WR-CALDESC:Händelser för Automobilsällskapet Nyköping
BEGIN:VEVENT
DTSTART;TZID=Europe/Stockholm:20230524T173000
DTEND;TZID=Europe/Stockholm:20230524T173000
DTSTAMP:20260419T201604
CREATED:20230207T102843Z
LAST-MODIFIED:20230207T103223Z
UID:12455-1684949400-1684949400@automobilsallskapet.se
SUMMARY:Veteranbilsträff i Nyköpings Hamn
DESCRIPTION:Tema: Tävlingsfordon av alla slag   17.30 – 21.00 \n
URL:https://automobilsallskapet.se/event/veteranbilstraff-i-nykopings-hamn-2
END:VEVENT
END:VCALENDAR