BEGIN:VCALENDAR
VERSION:2.0
PRODID:-//Automobilsällskapet Nyköping - ECPv4.7.3//NONSGML v1.0//EN
CALSCALE:GREGORIAN
METHOD:PUBLISH
X-WR-CALNAME:Automobilsällskapet Nyköping
X-ORIGINAL-URL:https://automobilsallskapet.se
X-WR-CALDESC:Händelser för Automobilsällskapet Nyköping
BEGIN:VEVENT
DTSTART;TZID=Europe/Stockholm:20230816T173000
DTEND;TZID=Europe/Stockholm:20230816T173000
DTSTAMP:20260420T074232
CREATED:20230207T105720Z
LAST-MODIFIED:20230207T105720Z
UID:12482-1692207000-1692207000@automobilsallskapet.se
SUMMARY:Veteranbilsträff i Nyköpings Hamn
DESCRIPTION:TUNGA  KVÄLLEN  med klassiska lastbilar\, brandbilar\, militärbilar\, traktorer mm \n17.30 – 21.00 \n
URL:https://automobilsallskapet.se/event/veteranbilstraff-i-nykopings-hamn-14
END:VEVENT
END:VCALENDAR