BEGIN:VCALENDAR
VERSION:2.0
PRODID:-//Automobilsällskapet Nyköping - ECPv4.7.3//NONSGML v1.0//EN
CALSCALE:GREGORIAN
METHOD:PUBLISH
X-WR-CALNAME:Automobilsällskapet Nyköping
X-ORIGINAL-URL:https://automobilsallskapet.se
X-WR-CALDESC:Händelser för Automobilsällskapet Nyköping
BEGIN:VEVENT
DTSTART;TZID=Europe/Stockholm:20230802T173000
DTEND;TZID=Europe/Stockholm:20230802T173000
DTSTAMP:20260420T033924
CREATED:20230207T105331Z
LAST-MODIFIED:20230207T105331Z
UID:12477-1690997400-1690997400@automobilsallskapet.se
SUMMARY:Veteranbilsträff i Nyköpings Hamn
DESCRIPTION:Tema:  MC\, MC-bilar och Mopeder \n17.30 – 21.00 \n
URL:https://automobilsallskapet.se/event/veteranbilstraff-i-nykopings-hamn-12
END:VEVENT
END:VCALENDAR