BEGIN:VCALENDAR
VERSION:2.0
PRODID:-//Automobilsällskapet Nyköping - ECPv4.7.3//NONSGML v1.0//EN
CALSCALE:GREGORIAN
METHOD:PUBLISH
X-WR-CALNAME:Automobilsällskapet Nyköping
X-ORIGINAL-URL:https://automobilsallskapet.se
X-WR-CALDESC:Händelser för Automobilsällskapet Nyköping
BEGIN:VEVENT
DTSTART;TZID=Europe/Stockholm:20230726T173000
DTEND;TZID=Europe/Stockholm:20230726T210000
DTSTAMP:20260420T015406
CREATED:20230207T105101Z
LAST-MODIFIED:20230207T105101Z
UID:12475-1690392600-1690405200@automobilsallskapet.se
SUMMARY:Veteranbilsträff i Nyköpings Hamn
DESCRIPTION:Tema: Engelska fordon \n17.30 – 21.00 \n
URL:https://automobilsallskapet.se/event/veteranbilstraff-i-nykopings-hamn-11
END:VEVENT
END:VCALENDAR