BEGIN:VCALENDAR
VERSION:2.0
PRODID:-//Automobilsällskapet Nyköping - ECPv4.7.3//NONSGML v1.0//EN
CALSCALE:GREGORIAN
METHOD:PUBLISH
X-WR-CALNAME:Automobilsällskapet Nyköping
X-ORIGINAL-URL:https://automobilsallskapet.se
X-WR-CALDESC:Händelser för Automobilsällskapet Nyköping
BEGIN:VEVENT
DTSTART;TZID=Europe/Stockholm:20231210T130000
DTEND;TZID=Europe/Stockholm:20231210T160000
DTSTAMP:20260421T130702
CREATED:20231204T141609Z
LAST-MODIFIED:20231204T141609Z
UID:13132-1702213200-1702224000@automobilsallskapet.se
SUMMARY:Söndagsöppet
DESCRIPTION:Nu är det final före juluppehållet och då blir det en extra julig touch på träffen. Mackorna blir vörtbröd med äkta julskinka\, senap och grönkål. Och så blir det förstås lussebröd och pepparkakor samt glögg och julmust om man vill ha det. \nLokalen är pyntad med gran\, stjärnor och ljus och stämningen är härlig. \nVälkomna säger värdparet Sonja och Urban \n
URL:https://automobilsallskapet.se/event/sondagsoppet-17
END:VEVENT
END:VCALENDAR