BEGIN:VCALENDAR
VERSION:2.0
PRODID:-//Automobilsällskapet Nyköping - ECPv4.7.3//NONSGML v1.0//EN
CALSCALE:GREGORIAN
METHOD:PUBLISH
X-WR-CALNAME:Automobilsällskapet Nyköping
X-ORIGINAL-URL:https://automobilsallskapet.se
X-WR-CALDESC:Händelser för Automobilsällskapet Nyköping
BEGIN:VEVENT
DTSTART;TZID=Europe/Stockholm:20250126T130000
DTEND;TZID=Europe/Stockholm:20250126T160000
DTSTAMP:20260419T222919
CREATED:20250113T203258Z
LAST-MODIFIED:20250113T203258Z
UID:13808-1737896400-1737907200@automobilsallskapet.se
SUMMARY:Söndagsöppet 13-16
DESCRIPTION:Värdar: Rojne o Elisabeth Pettersson \nVem är ”Söndagssamlare” den här söndagen? \n
URL:https://automobilsallskapet.se/event/sondagsoppet-13-16
END:VEVENT
END:VCALENDAR