BEGIN:VCALENDAR
VERSION:2.0
PRODID:-//Automobilsällskapet Nyköping - ECPv4.7.3//NONSGML v1.0//EN
CALSCALE:GREGORIAN
METHOD:PUBLISH
X-WR-CALNAME:Automobilsällskapet Nyköping
X-ORIGINAL-URL:https://automobilsallskapet.se
X-WR-CALDESC:Händelser för Automobilsällskapet Nyköping
BEGIN:VEVENT
DTSTART;TZID=Europe/Stockholm:20250209T130000
DTEND;TZID=Europe/Stockholm:20250209T160000
DTSTAMP:20260422T084508
CREATED:20250113T203605Z
LAST-MODIFIED:20250113T203605Z
UID:13812-1739106000-1739116800@automobilsallskapet.se
SUMMARY:Söndagsöppet 13-16
DESCRIPTION:Värdar: Geire o Monica Wetterström \nVem är ”Söndagssamlare”? \n
URL:https://automobilsallskapet.se/event/sondagsoppet-13-16-4
END:VEVENT
END:VCALENDAR