BEGIN:VCALENDAR
VERSION:2.0
PRODID:-//Automobilsällskapet Nyköping - ECPv4.7.3//NONSGML v1.0//EN
CALSCALE:GREGORIAN
METHOD:PUBLISH
X-WR-CALNAME:Automobilsällskapet Nyköping
X-ORIGINAL-URL:https://automobilsallskapet.se
X-WR-CALDESC:Händelser för Automobilsällskapet Nyköping
BEGIN:VEVENT
DTSTART;TZID=Europe/Stockholm:20250119T130000
DTEND;TZID=Europe/Stockholm:20250119T130000
DTSTAMP:20260419T185231
CREATED:20250113T202928Z
LAST-MODIFIED:20250113T202929Z
UID:13806-1737291600-1737291600@automobilsallskapet.se
SUMMARY:Söndagsöppet 13-16
DESCRIPTION:Söndagssamlaren visar en liten hemlighet \nVärdar: Geire o Monica Wetterström \n
URL:https://automobilsallskapet.se/event/sondagsoppet-13-16-2
END:VEVENT
END:VCALENDAR