BEGIN:VCALENDAR
VERSION:2.0
PRODID:-//Automobilsällskapet Nyköping - ECPv4.7.3//NONSGML v1.0//EN
CALSCALE:GREGORIAN
METHOD:PUBLISH
X-WR-CALNAME:Automobilsällskapet Nyköping
X-ORIGINAL-URL:https://automobilsallskapet.se
X-WR-CALDESC:Händelser för Automobilsällskapet Nyköping
BEGIN:VEVENT
DTSTART;TZID=Europe/Stockholm:20221204T120000
DTEND;TZID=Europe/Stockholm:20221204T160000
DTSTAMP:20260420T213942
CREATED:20220913T134004Z
LAST-MODIFIED:20220913T134004Z
UID:12317-1670155200-1670169600@automobilsallskapet.se
SUMMARY:Söndagsöppet 12-16
DESCRIPTION:Kaffevärdar: Leif o Helena Thor \n
URL:https://automobilsallskapet.se/event/sondagsoppet-12-16-9
END:VEVENT
END:VCALENDAR