BEGIN:VCALENDAR
VERSION:2.0
PRODID:-//Automobilsällskapet Nyköping - ECPv4.7.3//NONSGML v1.0//EN
CALSCALE:GREGORIAN
METHOD:PUBLISH
X-WR-CALNAME:Automobilsällskapet Nyköping
X-ORIGINAL-URL:https://automobilsallskapet.se
X-WR-CALDESC:Händelser för Automobilsällskapet Nyköping
BEGIN:VEVENT
DTSTART;TZID=Europe/Stockholm:20231231T080000
DTEND;TZID=Europe/Stockholm:20231231T170000
DTSTAMP:20260421T170435
CREATED:20231222T102315Z
LAST-MODIFIED:20231222T102315Z
UID:13146-1704009600-1704042000@automobilsallskapet.se
SUMMARY:Sista dag för motioner
DESCRIPTION:Motioner till årsmötet den 10 februari skall vara inlämnade till styrelsen senast denna dag. \n
URL:https://automobilsallskapet.se/event/sista-dag-for-motioner
END:VEVENT
END:VCALENDAR