BEGIN:VCALENDAR
VERSION:2.0
PRODID:-//Automobilsällskapet Nyköping - ECPv4.7.3//NONSGML v1.0//EN
CALSCALE:GREGORIAN
METHOD:PUBLISH
X-WR-CALNAME:Automobilsällskapet Nyköping
X-ORIGINAL-URL:https://automobilsallskapet.se
X-WR-CALDESC:Händelser för Automobilsällskapet Nyköping
BEGIN:VEVENT
DTSTART;TZID=Europe/Stockholm:20231112T130000
DTEND;TZID=Europe/Stockholm:20231112T160000
DTSTAMP:20260421T043302
CREATED:20230926T143302Z
LAST-MODIFIED:20230926T143302Z
UID:13101-1699794000-1699804800@automobilsallskapet.se
SUMMARY:Öppet Hus i klubblokalen och Fars Dag
DESCRIPTION:Öppet:  13 – 16 \nDet brukar hända något på Fars Dag \nKaffevärdar: Rojne och Elisabeth Pettersson \n
URL:https://automobilsallskapet.se/event/oppet-hus-i-klubblokalen-och-fars-dag
END:VEVENT
END:VCALENDAR