BEGIN:VCALENDAR
VERSION:2.0
PRODID:-//Automobilsällskapet Nyköping - ECPv4.7.3//NONSGML v1.0//EN
CALSCALE:GREGORIAN
METHOD:PUBLISH
X-WR-CALNAME:Automobilsällskapet Nyköping
X-ORIGINAL-URL:https://automobilsallskapet.se
X-WR-CALDESC:Händelser för Automobilsällskapet Nyköping
BEGIN:VEVENT
DTSTART;TZID=Europe/Stockholm:20231203T130000
DTEND;TZID=Europe/Stockholm:20231203T160000
DTSTAMP:20260421T112603
CREATED:20230926T144451Z
LAST-MODIFIED:20230926T144608Z
UID:13109-1701608400-1701619200@automobilsallskapet.se
SUMMARY:Öppet Hus i klubblokalen    !:a advent
DESCRIPTION:Öppet:  13 – 16 \nKlubblokalen är nu smyckad med gran (i plast)\, adventsstjärnor och ljus. Fikat kommer att vara julbetonat. \nKaffevärdar: Sonja och Urban Nyblom \n
URL:https://automobilsallskapet.se/event/oppet-hus-i-klubblokalen-forsta-advent
END:VEVENT
END:VCALENDAR