BEGIN:VCALENDAR
VERSION:2.0
PRODID:-//Automobilsällskapet Nyköping - ECPv4.7.3//NONSGML v1.0//EN
CALSCALE:GREGORIAN
METHOD:PUBLISH
X-WR-CALNAME:Automobilsällskapet Nyköping
X-ORIGINAL-URL:https://automobilsallskapet.se
X-WR-CALDESC:Händelser för Automobilsällskapet Nyköping
BEGIN:VEVENT
DTSTART;TZID=Europe/Stockholm:20231029T130000
DTEND;TZID=Europe/Stockholm:20231029T160000
DTSTAMP:20260420T231516
CREATED:20230926T142348Z
LAST-MODIFIED:20230926T142349Z
UID:13095-1698584400-1698595200@automobilsallskapet.se
SUMMARY:Öppet Hus i klubblokalen
DESCRIPTION:Öppet: 13 – 16 \nKaffevärdar: Per och Åsa Sjölund \n
URL:https://automobilsallskapet.se/event/oppet-hus-i-klubblokalen-28
END:VEVENT
END:VCALENDAR