BEGIN:VCALENDAR
VERSION:2.0
PRODID:-//Automobilsällskapet Nyköping - ECPv4.7.3//NONSGML v1.0//EN
CALSCALE:GREGORIAN
METHOD:PUBLISH
X-WR-CALNAME:Automobilsällskapet Nyköping
X-ORIGINAL-URL:https://automobilsallskapet.se
X-WR-CALDESC:Händelser för Automobilsällskapet Nyköping
BEGIN:VEVENT
DTSTART;TZID=Europe/Stockholm:20231015T130000
DTEND;TZID=Europe/Stockholm:20231015T160000
DTSTAMP:20260420T181718
CREATED:20230926T141439Z
LAST-MODIFIED:20230926T141439Z
UID:13089-1697374800-1697385600@automobilsallskapet.se
SUMMARY:Öppet Hus i klubblokalen
DESCRIPTION:Öppet: 13 – 16 \nKaffevärdar: Gunnar o Gunn-Britt Eriksson \n
URL:https://automobilsallskapet.se/event/oppet-hus-i-klubblokalen-26
END:VEVENT
END:VCALENDAR