BEGIN:VCALENDAR
VERSION:2.0
PRODID:-//Automobilsällskapet Nyköping - ECPv4.7.3//NONSGML v1.0//EN
CALSCALE:GREGORIAN
METHOD:PUBLISH
X-WR-CALNAME:Automobilsällskapet Nyköping
X-ORIGINAL-URL:https://automobilsallskapet.se
X-WR-CALDESC:Händelser för Automobilsällskapet Nyköping
BEGIN:VEVENT
DTSTART;TZID=Europe/Stockholm:20241215T130000
DTEND;TZID=Europe/Stockholm:20241215T160000
DTSTAMP:20260419T171104
CREATED:20240914T185525Z
LAST-MODIFIED:20241120T150005Z
UID:13720-1734267600-1734278400@automobilsallskapet.se
SUMMARY:Öppet hus - 3e advent 13-16  INSTÄLLT
DESCRIPTION:Kom loss från julstressen och träffa andra medlemmar i klubblokalen som är öppen även för icke-medlemmar från 13.00 till 16.00 \nVärdar: Per och Åsa Sjölund \n
URL:https://automobilsallskapet.se/event/oppet-hus-3e-advent-13-16
END:VEVENT
END:VCALENDAR