BEGIN:VCALENDAR
VERSION:2.0
PRODID:-//Automobilsällskapet Nyköping - ECPv4.7.3//NONSGML v1.0//EN
CALSCALE:GREGORIAN
METHOD:PUBLISH
X-WR-CALNAME:Automobilsällskapet Nyköping
X-ORIGINAL-URL:https://automobilsallskapet.se
X-WR-CALDESC:Händelser för Automobilsällskapet Nyköping
BEGIN:VEVENT
DTSTART;TZID=Europe/Stockholm:20241208T130000
DTEND;TZID=Europe/Stockholm:20241208T160000
DTSTAMP:20260419T134339
CREATED:20240914T185304Z
LAST-MODIFIED:20241120T150122Z
UID:13718-1733662800-1733673600@automobilsallskapet.se
SUMMARY:Öppet hus - 2a advent 13-16  INSTÄLLT
DESCRIPTION:Klubblokalen är öppen – även för icke-medlemmar- mellan 13.00 och 16.00 \nVärdar: Rojne och Elisabeth Pettersson \n
URL:https://automobilsallskapet.se/event/oppet-hus-2a-advent-13-16
END:VEVENT
END:VCALENDAR