BEGIN:VCALENDAR
VERSION:2.0
PRODID:-//Automobilsällskapet Nyköping - ECPv4.7.3//NONSGML v1.0//EN
CALSCALE:GREGORIAN
METHOD:PUBLISH
X-WR-CALNAME:Automobilsällskapet Nyköping
X-ORIGINAL-URL:https://automobilsallskapet.se
X-WR-CALDESC:Händelser för Automobilsällskapet Nyköping
BEGIN:VEVENT
DTSTART;TZID=Europe/Stockholm:20230312T120000
DTEND;TZID=Europe/Stockholm:20230312T160000
DTSTAMP:20260419T200934
CREATED:20221124T153438Z
LAST-MODIFIED:20230125T205953Z
UID:12397-1678622400-1678636800@automobilsallskapet.se
SUMMARY:Öppet Hus
DESCRIPTION:Öppet kl 12 till 16 \nVärdar: Bengt o Helena Nilsson \n
URL:https://automobilsallskapet.se/event/oppet-hus-27
END:VEVENT
END:VCALENDAR