BEGIN:VCALENDAR
VERSION:2.0
PRODID:-//Automobilsällskapet Nyköping - ECPv4.7.3//NONSGML v1.0//EN
CALSCALE:GREGORIAN
METHOD:PUBLISH
X-WR-CALNAME:Automobilsällskapet Nyköping
X-ORIGINAL-URL:https://automobilsallskapet.se
X-WR-CALDESC:Händelser för Automobilsällskapet Nyköping
BEGIN:VEVENT
DTSTART;TZID=Europe/Stockholm:20230226T120000
DTEND;TZID=Europe/Stockholm:20230226T160000
DTSTAMP:20260419T164541
CREATED:20221124T105857Z
LAST-MODIFIED:20230125T210144Z
UID:12391-1677412800-1677427200@automobilsallskapet.se
SUMMARY:Öppet Hus
DESCRIPTION:Öppet kl 12 till 16 \nVärdar: Björn Lindeborg/Karin Olsson \n
URL:https://automobilsallskapet.se/event/oppet-hus-25
END:VEVENT
END:VCALENDAR