BEGIN:VCALENDAR
VERSION:2.0
PRODID:-//Automobilsällskapet Nyköping - ECPv4.7.3//NONSGML v1.0//EN
CALSCALE:GREGORIAN
METHOD:PUBLISH
X-WR-CALNAME:Automobilsällskapet Nyköping
X-ORIGINAL-URL:https://automobilsallskapet.se
X-WR-CALDESC:Händelser för Automobilsällskapet Nyköping
BEGIN:VEVENT
DTSTART;TZID=Europe/Stockholm:20230212T120000
DTEND;TZID=Europe/Stockholm:20230212T160000
DTSTAMP:20260419T222921
CREATED:20221124T104533Z
LAST-MODIFIED:20221124T105045Z
UID:12384-1676203200-1676217600@automobilsallskapet.se
SUMMARY:Öppet Hus
DESCRIPTION:Öppet kl 12 till 16 \nVärdar: Rojne o Elisabeth \n
URL:https://automobilsallskapet.se/event/oppet-hus-23
END:VEVENT
END:VCALENDAR