BEGIN:VCALENDAR
VERSION:2.0
PRODID:-//Automobilsällskapet Nyköping - ECPv4.7.3//NONSGML v1.0//EN
CALSCALE:GREGORIAN
METHOD:PUBLISH
X-WR-CALNAME:Automobilsällskapet Nyköping
X-ORIGINAL-URL:https://automobilsallskapet.se
X-WR-CALDESC:Händelser för Automobilsällskapet Nyköping
BEGIN:VEVENT
DTSTART;TZID=Europe/Stockholm:20230205T120000
DTEND;TZID=Europe/Stockholm:20230205T160000
DTSTAMP:20260420T003316
CREATED:20221124T104308Z
LAST-MODIFIED:20221124T104953Z
UID:12382-1675598400-1675612800@automobilsallskapet.se
SUMMARY:Öppet Hus
DESCRIPTION:Öppet kl 12 till 16 \nVärdar: Rojne o Elisabeth \n
URL:https://automobilsallskapet.se/event/oppet-hus-22
END:VEVENT
END:VCALENDAR