BEGIN:VCALENDAR
VERSION:2.0
PRODID:-//Automobilsällskapet Nyköping - ECPv4.7.3//NONSGML v1.0//EN
CALSCALE:GREGORIAN
METHOD:PUBLISH
X-WR-CALNAME:Automobilsällskapet Nyköping
X-ORIGINAL-URL:https://automobilsallskapet.se
X-WR-CALDESC:Händelser för Automobilsällskapet Nyköping
BEGIN:VEVENT
DTSTART;TZID=Europe/Stockholm:20230115T120000
DTEND;TZID=Europe/Stockholm:20230115T160000
DTSTAMP:20260420T113436
CREATED:20221122T145459Z
LAST-MODIFIED:20221122T145500Z
UID:12367-1673784000-1673798400@automobilsallskapet.se
SUMMARY:Öppet Hus
DESCRIPTION:Öppet kl 12 till 16 \nVärdar: \n
URL:https://automobilsallskapet.se/event/oppet-hus-19
END:VEVENT
END:VCALENDAR