BEGIN:VCALENDAR
VERSION:2.0
PRODID:-//Automobilsällskapet Nyköping - ECPv4.7.3//NONSGML v1.0//EN
CALSCALE:GREGORIAN
METHOD:PUBLISH
X-WR-CALNAME:Automobilsällskapet Nyköping
X-ORIGINAL-URL:https://automobilsallskapet.se
X-WR-CALDESC:Händelser för Automobilsällskapet Nyköping
BEGIN:VEVENT
DTSTART;TZID=Europe/Stockholm:20240204T130000
DTEND;TZID=Europe/Stockholm:20240204T160000
DTSTAMP:20260422T043332
CREATED:20231227T141821Z
LAST-MODIFIED:20231227T141821Z
UID:13170-1707051600-1707062400@automobilsallskapet.se
SUMMARY:Öppet Hus  13-16
DESCRIPTION:Fika och gemenskap   På allmän begäran visas bilder från klubbens 50-årsfest på Hotel Sunlight 2018 \nVärdar: Sonja och Urban Nyblom \n
URL:https://automobilsallskapet.se/event/oppet-hus-13-16-4
END:VEVENT
END:VCALENDAR