BEGIN:VCALENDAR
VERSION:2.0
PRODID:-//Automobilsällskapet Nyköping - ECPv4.7.3//NONSGML v1.0//EN
CALSCALE:GREGORIAN
METHOD:PUBLISH
X-WR-CALNAME:Automobilsällskapet Nyköping
X-ORIGINAL-URL:https://automobilsallskapet.se
X-WR-CALDESC:Händelser för Automobilsällskapet Nyköping
BEGIN:VEVENT
DTSTART;TZID=Europe/Stockholm:20240128T130000
DTEND;TZID=Europe/Stockholm:20240128T160000
DTSTAMP:20260422T013521
CREATED:20231222T123809Z
LAST-MODIFIED:20231222T123809Z
UID:13157-1706446800-1706457600@automobilsallskapet.se
SUMMARY:Öppet Hus  13-16
DESCRIPTION:Fika och gemenskap \nVärdar: Rojne och Elisabeth \n
URL:https://automobilsallskapet.se/event/oppet-hus-13-16-3
END:VEVENT
END:VCALENDAR