BEGIN:VCALENDAR
VERSION:2.0
PRODID:-//Automobilsällskapet Nyköping - ECPv4.7.3//NONSGML v1.0//EN
CALSCALE:GREGORIAN
METHOD:PUBLISH
X-WR-CALNAME:Automobilsällskapet Nyköping
X-ORIGINAL-URL:https://automobilsallskapet.se
X-WR-CALDESC:Händelser för Automobilsällskapet Nyköping
BEGIN:VEVENT
DTSTART;TZID=Europe/Stockholm:20240121T130000
DTEND;TZID=Europe/Stockholm:20240121T160000
DTSTAMP:20260422T010246
CREATED:20231222T123620Z
LAST-MODIFIED:20231222T123620Z
UID:13155-1705842000-1705852800@automobilsallskapet.se
SUMMARY:Öppet Hus 13-16
DESCRIPTION:Fika\, gemenskap och bildvisning från året som gick \nVärdar: Rojne och Elisabeth Pettersson                                                                              Bildvisning: Urban Nyblom \n
URL:https://automobilsallskapet.se/event/oppet-hus-13-16-2
END:VEVENT
END:VCALENDAR