BEGIN:VCALENDAR
VERSION:2.0
PRODID:-//Automobilsällskapet Nyköping - ECPv4.7.3//NONSGML v1.0//EN
CALSCALE:GREGORIAN
METHOD:PUBLISH
X-WR-CALNAME:Automobilsällskapet Nyköping
X-ORIGINAL-URL:https://automobilsallskapet.se
X-WR-CALDESC:Händelser för Automobilsällskapet Nyköping
BEGIN:VEVENT
DTSTART;TZID=Europe/Stockholm:20251001T173000
DTEND;TZID=Europe/Stockholm:20251001T203000
DTSTAMP:20260420T153147
CREATED:20250920T124633Z
LAST-MODIFIED:20250920T124633Z
UID:14130-1759339800-1759350600@automobilsallskapet.se
SUMMARY:Onsdagsträff
DESCRIPTION:Utomhusbio i vår trädgård. Varna Popcorn säljes. \n
URL:https://automobilsallskapet.se/event/onsdagstraff
END:VEVENT
END:VCALENDAR