BEGIN:VCALENDAR
VERSION:2.0
PRODID:-//Automobilsällskapet Nyköping - ECPv4.7.3//NONSGML v1.0//EN
CALSCALE:GREGORIAN
METHOD:PUBLISH
X-WR-CALNAME:Automobilsällskapet Nyköping
X-ORIGINAL-URL:https://automobilsallskapet.se
X-WR-CALDESC:Händelser för Automobilsällskapet Nyköping
BEGIN:VEVENT
DTSTART;TZID=Europe/Stockholm:20251029T173000
DTEND;TZID=Europe/Stockholm:20251029T200000
DTSTAMP:20260420T185645
CREATED:20251001T142956Z
LAST-MODIFIED:20251001T142956Z
UID:14135-1761759000-1761768000@automobilsallskapet.se
SUMMARY:ONSDAGSKVÄLLSTRÄFF
DESCRIPTION:Jan Tägt från MHRF berättar om fortsättningen angående ELV\, samt hur man förfar vid KÖP och SÄLJ av fordon utanför EU. \n
URL:https://automobilsallskapet.se/event/onsdagskvallstraff
END:VEVENT
END:VCALENDAR