BEGIN:VCALENDAR
VERSION:2.0
PRODID:-//Automobilsällskapet Nyköping - ECPv4.7.3//NONSGML v1.0//EN
CALSCALE:GREGORIAN
METHOD:PUBLISH
X-WR-CALNAME:Automobilsällskapet Nyköping
X-ORIGINAL-URL:https://automobilsallskapet.se
X-WR-CALDESC:Händelser för Automobilsällskapet Nyköping
BEGIN:VEVENT
DTSTART;TZID=Europe/Stockholm:20240207T173000
DTEND;TZID=Europe/Stockholm:20240207T210000
DTSTAMP:20260422T062456
CREATED:20231227T140648Z
LAST-MODIFIED:20240205T160258Z
UID:13168-1707327000-1707339600@automobilsallskapet.se
SUMMARY:MÖRKERRUNDAN  inställd   Ersättningsprogram
DESCRIPTION:OBS\, OBS!    Vi skjuter fram Mörkerrundan p g a farligt isiga vägar runt Nyköping – återkommer med nytt datum. \nISTÄLLET SÄTTER VI IN DET TIDIGARE INSTÄLLDA PROGRAMMET OM STUDESVIKS R2-REAKTOR MED ROLAND CAFTEMO.  FIKA FRÅN 17.30 – FÖREDRAGET BÖRJAR 18.00 \n  \nBanläggare är Gunnar ”Barret” Skog som har massor av erfarenhet av liknande evenemang och har kört Mörkerrundan många gånger. Det blir säkert en trevlig runda. \nFörsta start 19.00 \n
URL:https://automobilsallskapet.se/event/morkerrundan-6
END:VEVENT
END:VCALENDAR