BEGIN:VCALENDAR
VERSION:2.0
PRODID:-//Automobilsällskapet Nyköping - ECPv4.7.3//NONSGML v1.0//EN
CALSCALE:GREGORIAN
METHOD:PUBLISH
X-WR-CALNAME:Automobilsällskapet Nyköping
X-ORIGINAL-URL:https://automobilsallskapet.se
X-WR-CALDESC:Händelser för Automobilsällskapet Nyköping
BEGIN:VEVENT
DTSTART;TZID=Europe/Stockholm:20230215T173000
DTEND;TZID=Europe/Stockholm:20230215T210000
DTSTAMP:20260419T204340
CREATED:20221121T104818Z
LAST-MODIFIED:20230207T110313Z
UID:12356-1676482200-1676494800@automobilsallskapet.se
SUMMARY:Mörkerrundan
DESCRIPTION:Årets Mörkerrunda genomförs onsdagen den 15 februari med start från kl 19.00. Tillåtet att köra med vardagsbilen. Banan är ca 6 mil. Anmälan till rundan görs till info@automobilsallskapet.se med angivande av förare och co-driver\, bil och tel.nr till föraren. Banläggare är Per Gustafsson.  Efter målgång finns korvgubbe på plats. \nKaffevärdar: Urban o Sonja  Kaffeservering med smörgåsar\, bullar och kakor från 17.30 \n
URL:https://automobilsallskapet.se/event/morkerrundan-4
END:VEVENT
END:VCALENDAR