BEGIN:VCALENDAR
VERSION:2.0
PRODID:-//Automobilsällskapet Nyköping - ECPv4.7.3//NONSGML v1.0//EN
CALSCALE:GREGORIAN
METHOD:PUBLISH
X-WR-CALNAME:Automobilsällskapet Nyköping
X-ORIGINAL-URL:https://automobilsallskapet.se
X-WR-CALDESC:Händelser för Automobilsällskapet Nyköping
BEGIN:VEVENT
DTSTART;TZID=Europe/Stockholm:20230118T173000
DTEND;TZID=Europe/Stockholm:20230118T203000
DTSTAMP:20260420T074938
CREATED:20221122T145858Z
LAST-MODIFIED:20221123T212042Z
UID:12369-1674063000-1674073800@automobilsallskapet.se
SUMMARY:Medlemskväll Tema: Ryggar och Veteranbilar
DESCRIPTION:Ryggar är som veteranbilar – med litet småjusteringar och underhåll kan de hålla länge. Den här kvällen får vi råd och tips om hur du kan få ryggen att fungera bättre. Vår föredragshållare Anders Lundgren är legitimerad kiropraktor\, tillika medlem hos oss och ägare av MG B. \nFika från 17.30 – föredraget börjar 18.00 \nVärdar: Leif o Helena \n
URL:https://automobilsallskapet.se/event/medlemskvall-tema-ryggar-och-knan
END:VEVENT
END:VCALENDAR