BEGIN:VCALENDAR
VERSION:2.0
PRODID:-//Automobilsällskapet Nyköping - ECPv4.7.3//NONSGML v1.0//EN
CALSCALE:GREGORIAN
METHOD:PUBLISH
X-WR-CALNAME:Automobilsällskapet Nyköping
X-ORIGINAL-URL:https://automobilsallskapet.se
X-WR-CALDESC:Händelser för Automobilsällskapet Nyköping
BEGIN:VEVENT
DTSTART;TZID=Europe/Stockholm:20231122T173000
DTEND;TZID=Europe/Stockholm:20231122T200000
DTSTAMP:20260421T094156
CREATED:20230926T143906Z
LAST-MODIFIED:20230926T143906Z
UID:13105-1700674200-1700683200@automobilsallskapet.se
SUMMARY:Medlemskväll\, Tema: Galna prylar med J-zon
DESCRIPTION:Vårens tema ”Galna Prylar” med Nils Ålander uppskattades av många och därför vill Anders Jansson nu försöka att göra om bedriften – han har också samlat på sig en hel del galna prylar.  OCH du som har något skojigt att visa upp – ta med! \nFika från 17.30 och programmet börjar 18.00 \nKaffevärdar: Björn och Karin \n
URL:https://automobilsallskapet.se/event/medlemskvall-tema-galna-prylar-med-j-zon
END:VEVENT
END:VCALENDAR