BEGIN:VCALENDAR
VERSION:2.0
PRODID:-//Automobilsällskapet Nyköping - ECPv4.7.3//NONSGML v1.0//EN
CALSCALE:GREGORIAN
METHOD:PUBLISH
X-WR-CALNAME:Automobilsällskapet Nyköping
X-ORIGINAL-URL:https://automobilsallskapet.se
X-WR-CALDESC:Händelser för Automobilsällskapet Nyköping
BEGIN:VEVENT
DTSTART;TZID=Europe/Stockholm:20220921T173000
DTEND;TZID=Europe/Stockholm:20220921T210000
DTSTAMP:20260425T140145
CREATED:20220913T095523Z
LAST-MODIFIED:20220913T095523Z
UID:12285-1663781400-1663794000@automobilsallskapet.se
SUMMARY:Medlemskväll\, Tema: Daimler
DESCRIPTION:Klubbens enda Daimlerägare\, Torbjörn Berg\, och Urban Nyblom kommer att räta ut frågetecknen kring tyska och brittiska Daimler. Finns det en koppling och i så fall hur ser den ut? Brittiska Daimlers historia benas ut\, en rejäl pedagogisk satsning!! \nFika börjar redan 17.30 och programmet 18.00\, men det kommer att finnas möjlighet att fika även efter programmet som är tänkt att bli både utomhus och inomhus. Eftersom det stod fel i programmet som gick ut med senaste KM så blir det gratis fika i kväll – inte dåligt med tanke på kaffepriserna! \nKvällens värdar: Sonja o Urban Nyblom \n
URL:https://automobilsallskapet.se/event/medlemskvall-tema-daimler
END:VEVENT
END:VCALENDAR