BEGIN:VCALENDAR
VERSION:2.0
PRODID:-//Automobilsällskapet Nyköping - ECPv4.7.3//NONSGML v1.0//EN
CALSCALE:GREGORIAN
METHOD:PUBLISH
X-WR-CALNAME:Automobilsällskapet Nyköping
X-ORIGINAL-URL:https://automobilsallskapet.se
X-WR-CALDESC:Händelser för Automobilsällskapet Nyköping
BEGIN:VEVENT
DTSTART;TZID=Europe/Stockholm:20231018T073000
DTEND;TZID=Europe/Stockholm:20231018T200000
DTSTAMP:20260420T194950
CREATED:20230926T141853Z
LAST-MODIFIED:20230926T141853Z
UID:13091-1697614200-1697659200@automobilsallskapet.se
SUMMARY:Medlemskväll\, Tema: ANA-garagen
DESCRIPTION:Vi får en historisk tillbakablick på Hemgårdsgaragen\, bilder från rivningen och tankar kring återuppbyggnaden.   Anders Jansson och andra i arbetsstyrkan ansvarar \nKaffevärdar: Sonja o Urban Nyblom \n
URL:https://automobilsallskapet.se/event/medlemskvall-tema-ana-garagen
END:VEVENT
END:VCALENDAR