BEGIN:VCALENDAR
VERSION:2.0
PRODID:-//Automobilsällskapet Nyköping - ECPv4.7.3//NONSGML v1.0//EN
CALSCALE:GREGORIAN
METHOD:PUBLISH
X-WR-CALNAME:Automobilsällskapet Nyköping
X-ORIGINAL-URL:https://automobilsallskapet.se
X-WR-CALDESC:Händelser för Automobilsällskapet Nyköping
BEGIN:VEVENT
DTSTART;TZID=Europe/Stockholm:20240117T173000
DTEND;TZID=Europe/Stockholm:20240117T210000
DTSTAMP:20260421T220830
CREATED:20231222T120428Z
LAST-MODIFIED:20240117T115003Z
UID:13153-1705512600-1705525200@automobilsallskapet.se
SUMMARY:Medlemskväll: "Studsvik - en strålande arbetsplats" INSTÄLLT
DESCRIPTION:På grund av snökaos i Nyköping med omnejd så ställs kvällens program in. \n  \nRoland Caftemo visar bilder och berättar om R2-reaktorns uppgång och fall. Roland var med och byggde upp reaktorn\, men fick också uppleva nedläggningen. Nu diskuteras byggandet av reaktorer igen vid Studsvik. En intressant kväll med såväl historia som framtidsblick. \nFika serveras från 17.30. Roland börjar 18.00 \nAnsvarig: Björn Lindeberg                                                                                        Värdar: Rojne och Elisabeth Pettersson \n
URL:https://automobilsallskapet.se/event/medlemskvall-studsvik-en-stralande-arbetsplats
END:VEVENT
END:VCALENDAR