BEGIN:VCALENDAR
VERSION:2.0
PRODID:-//Automobilsällskapet Nyköping - ECPv4.7.3//NONSGML v1.0//EN
CALSCALE:GREGORIAN
METHOD:PUBLISH
X-WR-CALNAME:Automobilsällskapet Nyköping
X-ORIGINAL-URL:https://automobilsallskapet.se
X-WR-CALDESC:Händelser för Automobilsällskapet Nyköping
BEGIN:VEVENT
DTSTART;TZID=Europe/Stockholm:20231108T173000
DTEND;TZID=Europe/Stockholm:20231108T200000
DTSTAMP:20260421T030601
CREATED:20230926T143052Z
LAST-MODIFIED:20230926T143052Z
UID:13099-1699464600-1699473600@automobilsallskapet.se
SUMMARY:Medlemskväll i klubblokalen
DESCRIPTION:Tommy Duvefeldt berättar om sitt militära liv under rubriken ”Militära skrönor och andra sanna händelser” \nFika från 17.30\, programmet börjar 18.00 \nKaffevärdar: Rojne och Elisabeth Pettersson \n
URL:https://automobilsallskapet.se/event/medlemskvall-i-klubblokalen
END:VEVENT
END:VCALENDAR