BEGIN:VCALENDAR
VERSION:2.0
PRODID:-//Automobilsällskapet Nyköping - ECPv4.7.3//NONSGML v1.0//EN
CALSCALE:GREGORIAN
METHOD:PUBLISH
X-WR-CALNAME:Automobilsällskapet Nyköping
X-ORIGINAL-URL:https://automobilsallskapet.se
X-WR-CALDESC:Händelser för Automobilsällskapet Nyköping
BEGIN:VEVENT
DTSTART;TZID=Europe/Stockholm:20250122T173000
DTEND;TZID=Europe/Stockholm:20250122T210000
DTSTAMP:20260419T204935
CREATED:20250113T205120Z
LAST-MODIFIED:20250113T205120Z
UID:13819-1737567000-1737579600@automobilsallskapet.se
SUMMARY:Medlemskväll: Familjen Wahren och deras bilar
DESCRIPTION:Den här kvällen har vi celebert norrköpingsbesök: Vår medlem Gunnar Barret -skog och Norrköpingsklubbens Rolf Johansson tillsammans med en av Norrköpings guider kommer att berätta om den välkända familjen Wahren. MEN också om deras fantastiska bilar. \nFika från 17.30 – programmet börjar 18.00 \nVärdar: Rojne och Elisabeth Pettersson \nProgramvärd: Anders Jansson \n
URL:https://automobilsallskapet.se/event/medlemskvall-familjen-wahren-och-deras-bilar
END:VEVENT
END:VCALENDAR