BEGIN:VCALENDAR
VERSION:2.0
PRODID:-//Automobilsällskapet Nyköping - ECPv4.7.3//NONSGML v1.0//EN
CALSCALE:GREGORIAN
METHOD:PUBLISH
X-WR-CALNAME:Automobilsällskapet Nyköping
X-ORIGINAL-URL:https://automobilsallskapet.se
X-WR-CALDESC:Händelser för Automobilsällskapet Nyköping
BEGIN:VEVENT
DTSTART;TZID=Europe/Stockholm:20241218T170000
DTEND;TZID=Europe/Stockholm:20241218T210000
DTSTAMP:20260419T171101
CREATED:20240914T190101Z
LAST-MODIFIED:20241104T104542Z
UID:13722-1734541200-1734555600@automobilsallskapet.se
SUMMARY:Hjulfest på NK-villan
DESCRIPTION: Vi upprepar förra årets succé med hjulfest på NK-villan och deras Lilla julbord. Men vi blir säkert mätta med detta innehåll:  Två sorters sill\, ägghalvor\, varmrökt och gravad lax\, rödbetssallad\, julskinka\, Jansson\, julköttbullar\, prinskorv\, vörtbröd och julost\, lättdryck\, julgodis och kaffe med kaka \nOM du är rullstolsåkare eller har andra rörelsebegränsningar så bokar vi av P-plats vid villan. \nVi mjukstartar med glöggmingel från kl 17.00 och ca 17.30 siktar vi in oss på buffén \nPriset har förstås rakat i höjden i år\, men vi har beslutat att sponsra från klubbkassan så vi kan hålla samma pris som förra året\, dvs 385 kr/person. \nDu som önskar högre oktantal på drycken tar själv med dig det du önskar och lämpligt är att ha med sig snapsglas i förekommande fall. \nStämningsfull underhållning bjuds av  ConKÖRdeCharme och ett mindre julklappslotteri blir det också. \nMax platser är ca 60 och drygt hälften är redan bokade så vänta inte för länge. \nBokning görs till Urban på tel 070-2141464 eller till info@automobilsallskapet.se   senast den 11 dec och sedan betalar Du i förskott till BG 5852-2046 eller med swish till 123 143 21 37. Kom ihåg att ange namn! \nOM du skulle bli sjuk eller få förhinder av annat slag så får du förstås tillbaka pengen. \n
URL:https://automobilsallskapet.se/event/hjulfest-pa-nk-villan-3
END:VEVENT
END:VCALENDAR