BEGIN:VCALENDAR
VERSION:2.0
PRODID:-//Automobilsällskapet Nyköping - ECPv4.7.3//NONSGML v1.0//EN
CALSCALE:GREGORIAN
METHOD:PUBLISH
X-WR-CALNAME:Automobilsällskapet Nyköping
X-ORIGINAL-URL:https://automobilsallskapet.se
X-WR-CALDESC:Händelser för Automobilsällskapet Nyköping
BEGIN:VEVENT
DTSTART;TZID=Europe/Stockholm:20260513T173000
DTEND;TZID=Europe/Stockholm:20260513T203000
DTSTAMP:20260422T190336
CREATED:20260422T140230Z
LAST-MODIFIED:20260422T140230Z
UID:14319-1778693400-1778704200@automobilsallskapet.se
SUMMARY:HAMNTRÄFFARNA startar 13 maj
DESCRIPTION:Första veteranbilsträffén i Nyköpings Hamn för i år\, är temat KLUBBENS FORDON. Naturligtvis får även icke medlemmar visa upp sina veteranfordon. Men\, alla fordon ska vara minst 30 år! Välkomna onsdagen den 13 maj från kl 17:30. \n
URL:https://automobilsallskapet.se/event/hamntraffarna-startar-13-maj
LOCATION:Nyköpings Hamn
END:VEVENT
END:VCALENDAR