BEGIN:VCALENDAR
VERSION:2.0
PRODID:-//Automobilsällskapet Nyköping - ECPv4.7.3//NONSGML v1.0//EN
CALSCALE:GREGORIAN
METHOD:PUBLISH
X-WR-CALNAME:Automobilsällskapet Nyköping
X-ORIGINAL-URL:https://automobilsallskapet.se
X-WR-CALDESC:Händelser för Automobilsällskapet Nyköping
BEGIN:VEVENT
DTSTART;TZID=Europe/Stockholm:20220817T173000
DTEND;TZID=Europe/Stockholm:20220817T210000
DTSTAMP:20260425T120439
CREATED:20220222T132847Z
LAST-MODIFIED:20220222T132847Z
UID:11832-1660757400-1660770000@automobilsallskapet.se
SUMMARY:Hamnträff  Tema: Japanska bilar
DESCRIPTION:Den generella åldersregeln som gäller är 30 år\, men senare japanare som kan kallas ”Blivande Klassiker” är också välkomna. \n
URL:https://automobilsallskapet.se/event/hamntraff-tema-japanska-bilar
END:VEVENT
END:VCALENDAR