BEGIN:VCALENDAR
VERSION:2.0
PRODID:-//Automobilsällskapet Nyköping - ECPv4.7.3//NONSGML v1.0//EN
CALSCALE:GREGORIAN
METHOD:PUBLISH
X-WR-CALNAME:Automobilsällskapet Nyköping
X-ORIGINAL-URL:https://automobilsallskapet.se
X-WR-CALDESC:Händelser för Automobilsällskapet Nyköping
BEGIN:VEVENT
DTSTART;TZID=Europe/Stockholm:20220803T173000
DTEND;TZID=Europe/Stockholm:20220803T210000
DTSTAMP:20260425T152459
CREATED:20220222T131132Z
LAST-MODIFIED:20220222T131132Z
UID:11826-1659547800-1659560400@automobilsallskapet.se
SUMMARY:Hamnträff  Tema: Franska och Italienska bilar
DESCRIPTION:Den här kvällen slår vi ihop bilar från två sydeuropeiska länder och hoppas att det skall gå bra. Bilar från de här länderna som kan klassas som ”Blivande Klassiker” behöver inte följa de allmänna ålderskraven. Övriga skall vara 30 år eller äldre och i fint skick. \n
URL:https://automobilsallskapet.se/event/hamntraff-tema-franska-och-italienska-bilar
END:VEVENT
END:VCALENDAR