BEGIN:VCALENDAR
VERSION:2.0
PRODID:-//Automobilsällskapet Nyköping - ECPv4.7.3//NONSGML v1.0//EN
CALSCALE:GREGORIAN
METHOD:PUBLISH
X-WR-CALNAME:Automobilsällskapet Nyköping
X-ORIGINAL-URL:https://automobilsallskapet.se
X-WR-CALDESC:Händelser för Automobilsällskapet Nyköping
BEGIN:VEVENT
DTSTART;TZID=Europe/Stockholm:20220824T173000
DTEND;TZID=Europe/Stockholm:20220824T210000
DTSTAMP:20260425T103944
CREATED:20220222T131941Z
LAST-MODIFIED:20220222T132355Z
UID:11830-1661362200-1661374800@automobilsallskapet.se
SUMMARY:Hamnträff   med tema Automobilsällskapets medlemmars bilar
DESCRIPTION:Den generella åldersgränsen är 30 år\, men fordon som tillhör medlemmar i Automobilsällskapet kan den här kvällen vara ”Blivande Klassiker”\, kultbilar\, entusiastbilar och t o m ombyggda bilar som är yngre än 30 år. \n
URL:https://automobilsallskapet.se/event/hamntraff-med-tema-automobilsallskapets-medlemmars-bilar
END:VEVENT
END:VCALENDAR