BEGIN:VCALENDAR
VERSION:2.0
PRODID:-//Automobilsällskapet Nyköping - ECPv4.7.3//NONSGML v1.0//EN
CALSCALE:GREGORIAN
METHOD:PUBLISH
X-WR-CALNAME:Automobilsällskapet Nyköping
X-ORIGINAL-URL:https://automobilsallskapet.se
X-WR-CALDESC:Händelser för Automobilsällskapet Nyköping
BEGIN:VEVENT
DTSTART;TZID=Europe/Stockholm:20220518T173000
DTEND;TZID=Europe/Stockholm:20220518T210000
DTSTAMP:20260425T163511
CREATED:20220222T103936Z
LAST-MODIFIED:20220222T103936Z
UID:11804-1652895000-1652907600@automobilsallskapet.se
SUMMARY:Hamnträff 17.30-21.00
DESCRIPTION:Premiärkväll med Automobilsällskapets medlemsfordon som tema. Här finns plats för litet nyare\, blivande klassiker och även ombyggda fordon. Givetvis välkomnar vi även ”icke-medlemmar”\, men då skall fordonen vara minst 30 år och i fint skick. \n
URL:https://automobilsallskapet.se/event/hamntraff-17-30-21-00
END:VEVENT
END:VCALENDAR