BEGIN:VCALENDAR
VERSION:2.0
PRODID:-//Automobilsällskapet Nyköping - ECPv4.7.3//NONSGML v1.0//EN
CALSCALE:GREGORIAN
METHOD:PUBLISH
X-WR-CALNAME:Automobilsällskapet Nyköping
X-ORIGINAL-URL:https://automobilsallskapet.se
X-WR-CALDESC:Händelser för Automobilsällskapet Nyköping
BEGIN:VEVENT
DTSTART;TZID=Europe/Stockholm:20230606T090000
DTEND;TZID=Europe/Stockholm:20230606T150000
DTSTAMP:20260419T165001
CREATED:20230125T214338Z
LAST-MODIFIED:20230522T161434Z
UID:12447-1686042000-1686063600@automobilsallskapet.se
SUMMARY:GÄSTABUDSRUNDAN
DESCRIPTION:Rundan är som vanligt upplagd som ett familjerally med såväl praktiska prov som kunskapsfrågor efter vägen. Längd ca 6 mil i vacker sörmländsk natur. Endast 2 km grusväg. \nAnmälan med uppgift om bilmärke\, ålder\, förare\, tel nr och gärna mailadress till info@automobilsällskapet.se senast den 3 juni. \nVi välkomnar bilar i fint skick och med minst 30 år på nacken \nStartavgift: 175 kr/bil  Betalas helst in i förväg till BG5852-2046 eller med Swish till 123 143 21 37 \nStarten sker vid Nynäs slott där alla deltagare bjuds på morgonfika med ostfralla.  Målgång vid Automobilsällskapets klubbhus på Skavsta flygplats.  Kaffeservering finns vid målet. \nFörsta start 10.00 – samling från 09.00 \nPriser till de fem första samt till Charmigaste Ekipage (dvs klädda i stil och tid som bilen)\, därefter utlottning av priser \n
URL:https://automobilsallskapet.se/event/gastabudsrundan-4
END:VEVENT
END:VCALENDAR