BEGIN:VCALENDAR
VERSION:2.0
PRODID:-//Automobilsällskapet Nyköping - ECPv4.7.3//NONSGML v1.0//EN
CALSCALE:GREGORIAN
METHOD:PUBLISH
X-WR-CALNAME:Automobilsällskapet Nyköping
X-ORIGINAL-URL:https://automobilsallskapet.se
X-WR-CALDESC:Händelser för Automobilsällskapet Nyköping
BEGIN:VEVENT
DTSTART;TZID=Europe/Stockholm:20220606T090000
DTEND;TZID=Europe/Stockholm:20220606T150000
DTSTAMP:20260425T150934
CREATED:20220511T104326Z
LAST-MODIFIED:20220605T163210Z
UID:11843-1654506000-1654527600@automobilsallskapet.se
SUMMARY:Gästabudsrundan
DESCRIPTION:Anmälan är nu stängd. Om du vill köra utom tävlan så anmäler ni detta vid starten. \n
URL:https://automobilsallskapet.se/event/gastabudsrundan-3
END:VEVENT
END:VCALENDAR