BEGIN:VCALENDAR
VERSION:2.0
PRODID:-//Automobilsällskapet Nyköping - ECPv4.7.3//NONSGML v1.0//EN
CALSCALE:GREGORIAN
METHOD:PUBLISH
X-WR-CALNAME:Automobilsällskapet Nyköping
X-ORIGINAL-URL:https://automobilsallskapet.se
X-WR-CALDESC:Händelser för Automobilsällskapet Nyköping
BEGIN:VEVENT
DTSTART;TZID=Europe/Stockholm:20230218T140000
DTEND;TZID=Europe/Stockholm:20230218T160000
DTSTAMP:20260419T200616
CREATED:20221121T104345Z
LAST-MODIFIED:20221124T105248Z
UID:12354-1676728800-1676736000@automobilsallskapet.se
SUMMARY:ÅRSMÖTE  ASN
DESCRIPTION:Årsmötet hålls lördagen den 18e februari kl 14.00 i klubblokalen på Skavsta. Vi vill få anmälan till årsmötet senast den 15e för att kunna dimensionera fikat. Eventuella motioner skall vara styrelsen tillhanda senast den 31 dec 2022. \n
URL:https://automobilsallskapet.se/event/arsmote-asn-2
END:VEVENT
END:VCALENDAR