BEGIN:VCALENDAR
VERSION:2.0
PRODID:-//Automobilsällskapet Nyköping - ECPv4.7.3//NONSGML v1.0//EN
CALSCALE:GREGORIAN
METHOD:PUBLISH
X-WR-CALNAME:Automobilsällskapet Nyköping
X-ORIGINAL-URL:http://automobilsallskapet.se
X-WR-CALDESC:Händelser för Automobilsällskapet Nyköping
BEGIN:VEVENT
DTSTART;TZID=Europe/Stockholm:20220320T120000
DTEND;TZID=Europe/Stockholm:20220320T160000
DTSTAMP:20260425T184712
CREATED:20220210T204130Z
LAST-MODIFIED:20220210T204130Z
UID:11785-1647777600-1647792000@automobilsallskapet.se
SUMMARY:Söndagsöppet
DESCRIPTION:Öppet: 12.00 – 16.00 \nVärdar: Urban o Sonja \n
URL:http://automobilsallskapet.se/event/sondagsoppet-16
END:VEVENT
END:VCALENDAR