BEGIN:VCALENDAR
VERSION:2.0
PRODID:-//Automobilsällskapet Nyköping - ECPv4.7.3//NONSGML v1.0//EN
CALSCALE:GREGORIAN
METHOD:PUBLISH
X-WR-CALNAME:Automobilsällskapet Nyköping
X-ORIGINAL-URL:http://automobilsallskapet.se
X-WR-CALDESC:Händelser för Automobilsällskapet Nyköping
BEGIN:VEVENT
DTSTART;TZID=Europe/Stockholm:20210804T170000
DTEND;TZID=Europe/Stockholm:20210804T200000
DTSTAMP:20260420T213936
CREATED:20210731T152428Z
LAST-MODIFIED:20210731T152428Z
UID:11535-1628096400-1628107200@automobilsallskapet.se
SUMMARY:Veteranfordonsträff i Nyköpings Hamn
DESCRIPTION:Vi släpper in från 17.00 och parkerar er på coronasäkrat avstånd. Därför blir inte hamnen tillräckligt stor för någon jätteträff. så var beredd på att vi inte har plats för alla. Vi är litet försiktiga så vi kan inte ha parad\, intervjuer\, lotteri – MEN vi kan ha trevligt ändå!! Det är inget tema i år så vi blandar vilt mellan stora och små fordon. Krogar och caféer i hamnen är öppna. \nVÄLKOMNA! \n  \n
URL:http://automobilsallskapet.se/event/veteranfordonstraff-i-nykopings-hamn-16
END:VEVENT
END:VCALENDAR